BEGIN:VCALENDAR
VERSION:2.0
PRODID:-//ChamberMaster//Event Calendar 2.0//EN
METHOD:PUBLISH
X-PUBLISHED-TTL:P3D
REFRESH-INTERVAL:P3D
CALSCALE:GREGORIAN
BEGIN:VEVENT
DTSTART:20260826T223000Z
DTEND:20260827T020000Z
X-MICROSOFT-CDO-ALLDAYEVENT:FALSE
SUMMARY:18th Annual Forever Young Mentor Awards 2026
DESCRIPTION:Coast Young Professionals (CYP) is pleased to announce the 18th Annual Forever Young Mentor Awards formely known as Black Tie and Blue Jeans Gala. The event will be held at the IP Casino Resort Spa in Biloxi on Wednesday\, August 26. Dinner and a photo station are included in the price of admission. A cash bar will be available during the program.\n\n\n\nThis is an annual event that honors 10 accomplished and influential mentors of the Mississippi Gulf Coast with the "Forever Young" awards. Forever Young recipients are persons of professional integrity who exemplify the spirit of service to their professions and who have\, by their leadership\, made a significant contribution to the advancement of a Coast Young Professionals member's career.\n\n\n\nSponsorships in varying levels are still available. For more information on sponsorships\, call the Chamber office at 228-604-0014 or email caroline@mscoastchamber.com
X-ALT-DESC;FMTTYPE=text/html:<div>&nbsp\;</div>\n<span style="font-size:14px\;"><span style="font-family:arial\,sans-serif\;">Coast Young Professionals (CYP) is pleased to announce the 18<sup>th</sup> Annual Forever Young Mentor Awards formely known as Black Tie and Blue Jeans Gala. The event will be held at the IP Casino Resort Spa in Biloxi on Wednesday\, August 26. Dinner and a photo station are included in the price of admission. A cash bar will be available during the program.</span><br />\n<br />\n<span style="font-family:arial\,sans-serif\;">This is an annual event that honors 10 accomplished and influential mentors of the Mississippi Gulf Coast with the &quot\;Forever Young&quot\; awards. Forever Young recipients are persons of professional integrity who exemplify the spirit of service to their professions and who have\, by their leadership\, made a significant contribution to the advancement of a Coast Young Professionals member&#39\;s career.</span></span><br />\n<br />\n<span style="font-size:14px\;"><span style="font-family:arial\,sans-serif\;">Sponsorships in varying levels are still available. For more information on sponsorships\, call the Chamber office at 228-604-0014 or email caroline@mscoastchamber.com</span></span>
LOCATION:IP Casino Resort Spa
UID:e.2667.34397
SEQUENCE:3
DTSTAMP:20260424T161108Z
URL:https://business.mscoastchamber.com/events/details/18th-annual-forever-young-mentor-awards-2026-34397
END:VEVENT

END:VCALENDAR
