BEGIN:VCALENDAR
VERSION:2.0
PRODID:-//ChamberMaster//Event Calendar 2.0//EN
METHOD:PUBLISH
X-PUBLISHED-TTL:P3D
REFRESH-INTERVAL:P3D
CALSCALE:GREGORIAN
BEGIN:VEVENT
DTSTART;VALUE=DATE:20260501
DTEND;VALUE=DATE:20260601
TRANSP:TRANSPARENT
X-MICROSOFT-CDO-ALLDAYEVENT:TRUE
SUMMARY:College Quilt Event
DESCRIPTION:Month long Peace by Piece Quilt Shop College Graduation quilt event.  Get a free College keepsake medallion (while supplies last) with a purchase of a unique\, hand-pieced\, machine-quilted treasure hand-crafted in Biloxi\, Mississippi. All quilts are made with 100% cotton prints and are truly one-of-a-kind quilts made to last generations. Come in and browse our selection!
X-ALT-DESC;FMTTYPE=text/html:<span style="font-size:14px"><span style="font-family:arial\,helvetica\,sans-serif">Month long Peace by Piece Quilt Shop College Graduation quilt event.&nbsp\; Get a free College keepsake medallion (while supplies last) with a purchase of a&nbsp\;<!--StartFragment--><span style="color:rgb(0\, 0\, 0)">unique\, hand-pieced\, machine-quilted treasure hand-crafted in Biloxi\, Mississippi. All quilts are made with 100% cotton prints and are truly one-of-a-kind quilts made to last generations. Come in and browse our selection!</span></span></span><!--EndFragment-->
LOCATION:Peace by Piece Quilt Shop At the Lighthouse on Hwy 90\, turn North on Porter Avenue. Turn right on Howard Avenue (before the tracks). Just past the Biloxi Fire Museum\, Peace by Piece Quilt Shop will be on the left. Our parking lot is directly across from the shop at Benachi & Howard.
UID:e.2667.34774
SEQUENCE:3
DTSTAMP:20260423T112248Z
URL:https://business.mscoastchamber.com/events/details/college-quilt-event-34774
END:VEVENT

END:VCALENDAR
