BEGIN:VCALENDAR
VERSION:2.0
PRODID:-//ChamberMaster//Event Calendar 2.0//EN
METHOD:PUBLISH
X-PUBLISHED-TTL:P3D
REFRESH-INTERVAL:P3D
CALSCALE:GREGORIAN
BEGIN:VEVENT
DTSTART;VALUE=DATE:20260504
DTEND;VALUE=DATE:20260510
TRANSP:TRANSPARENT
X-MICROSOFT-CDO-ALLDAYEVENT:TRUE
SUMMARY:Mother's Day Quilting Sale
DESCRIPTION:Peace by Piece Quilt Shop invites you to discover that Special gift for the one you love with these unique\, hand-pieced\, machine-quilted treasures in a variety of sizes\, hand-crafted in Biloxi\, Mississippi. All quilts are made with new 100% cotton prints and are truly one-of-a-kind quilts made to last generations. Come in and browse our selection!
X-ALT-DESC;FMTTYPE=text/html:<span style="color:rgb(0\, 0\, 0)\; font-family:calibri\,helvetica\,sans-serif\; font-size:12pt">Peace by Piece Quilt Shop invites you to discover that Special gift for the one you love with these unique\, hand-pieced\, machine-quilted treasures in a variety of sizes\, hand-crafted in Biloxi\, Mississippi. All quilts are made with new 100% cotton prints and are truly one-of-a-kind quilts made to last generations. Come in and browse our selection!</span><!--EndFragment-->
LOCATION:Peace by Piece Quilt Shop At the Lighthouse on Hwy 90\, turn North on Porter Avenue. Turn right on Howard Avenue (before the tracks). Just past the Biloxi Fire Museum\, Peace by Piece Quilt Shop will be on the left. Our parking lot is directly across from the shop at Benachi & Howard.
UID:e.2667.34773
SEQUENCE:3
DTSTAMP:20260423T112332Z
URL:https://business.mscoastchamber.com/events/details/mother-s-day-quilting-sale-34773
END:VEVENT

END:VCALENDAR
